BEGIN:VCALENDAR
VERSION:2.0
PRODID:-//eventon.com NONSGML v1.0//EN
CALSCALE:GREGORIAN
METHOD:PUBLISH
BEGIN:VEVENT
UID:69e87f9942418
DTSTAMP:20260422T075817Z
DTSTART:20261209T080000Z
DTEND:20261209T103000Z
LOCATION:
SUMMARY:COMITÉ DE SOCIOS - DICIEMBRE
DESCRIPTION:COMITÉ DE SOCIOS - DICIEMBRE\nhttps://comcenoreste.org.mx/even
 ts/comite-de-socios-diciembre/
URL:https://comcenoreste.org.mx/events/comite-de-socios-diciembre/
END:VEVENT
END:VCALENDAR