BEGIN:VCALENDAR
VERSION:2.0
PRODID:-//eventon.com NONSGML v1.0//EN
CALSCALE:GREGORIAN
METHOD:PUBLISH
BEGIN:VEVENT
UID:69e87fc694b1d
DTSTAMP:20260422T075902Z
DTSTART:20261203T190000Z
DTEND:20261203T220000Z
LOCATION:
SUMMARY:Cóctel Navideño
DESCRIPTION:Cóctel Navideño\nhttps://comcenoreste.org.mx/events/coctel-na
 videno/
URL:https://comcenoreste.org.mx/events/coctel-navideno/
END:VEVENT
END:VCALENDAR