BEGIN:VCALENDAR
VERSION:2.0
PRODID:-//eventon.com NONSGML v1.0//EN
CALSCALE:GREGORIAN
METHOD:PUBLISH
BEGIN:VEVENT
UID:69e87e6c405c6
DTSTAMP:20260422T075316Z
DTSTART:20261120T110000Z
DTEND:20261120T131300Z
LOCATION:
SUMMARY:Herramientas de Comercio Exterior para PYMES
DESCRIPTION:Herramientas de Comercio Exterior para PYMES\nhttps://comcenore
 ste.org.mx/events/herramientas-de-comercio-exterior-para-pymes/
URL:https://comcenoreste.org.mx/events/herramientas-de-comercio-exterior-para-pymes/
END:VEVENT
END:VCALENDAR