BEGIN:VCALENDAR
VERSION:2.0
PRODID:-//eventon.com NONSGML v1.0//EN
CALSCALE:GREGORIAN
METHOD:PUBLISH
BEGIN:VEVENT
UID:69e87f3639749
DTSTAMP:20260422T075638Z
DTSTART:20261119T080000Z
DTEND:20261119T130000Z
LOCATION:
SUMMARY:AUDITOR INTERNO N2 CTPAT/OEA
DESCRIPTION:AUDITOR INTERNO N2 CTPAT/OEA\nhttps://comcenoreste.org.mx/event
 s/auditor-interno-n2-ctpat-oea/
URL:https://comcenoreste.org.mx/events/auditor-interno-n2-ctpat-oea/
END:VEVENT
END:VCALENDAR