BEGIN:VCALENDAR
VERSION:2.0
PRODID:-//eventon.com NONSGML v1.0//EN
CALSCALE:GREGORIAN
METHOD:PUBLISH
BEGIN:VEVENT
UID:69e87e624703a
DTSTAMP:20260422T075306Z
DTSTART:20261111T080000Z
DTEND:20261111T103000Z
LOCATION:
SUMMARY:COMITÉ DE SOCIOS - NOVIEMBRE
DESCRIPTION:COMITÉ DE SOCIOS - NOVIEMBRE\nhttps://comcenoreste.org.mx/even
 ts/comite-de-socios-noviembre/
URL:https://comcenoreste.org.mx/events/comite-de-socios-noviembre/
END:VEVENT
END:VCALENDAR