BEGIN:VCALENDAR
VERSION:2.0
PRODID:-//eventon.com NONSGML v1.0//EN
CALSCALE:GREGORIAN
METHOD:PUBLISH
BEGIN:VEVENT
UID:69e87f55d255b
DTSTAMP:20260422T075709Z
DTSTART:20261105T110000Z
DTEND:20261105T130000Z
LOCATION:
SUMMARY:Inteligencia Comercial para la Selección yProspección de Mercados Internacionales
DESCRIPTION:Inteligencia Comercial para la Selección yProspección de Merc
 ados Internacionales\nhttps://comcenoreste.org.mx/events/inteligencia-comer
 cial-para-la-seleccion-yprospeccion-de-mercados-internacionales-2/
URL:https://comcenoreste.org.mx/events/inteligencia-comercial-para-la-seleccion-yprospeccion-de-mercados-internacionales-2/
END:VEVENT
END:VCALENDAR