BEGIN:VCALENDAR
VERSION:2.0
PRODID:-//eventon.com NONSGML v1.0//EN
CALSCALE:GREGORIAN
METHOD:PUBLISH
BEGIN:VEVENT
UID:69e87fc644134
DTSTAMP:20260422T075902Z
DTSTART:20261022T110000Z
DTEND:20261022T130000Z
LOCATION:
SUMMARY:Data Stage; anexo 24 y 30
DESCRIPTION:Data Stage; anexo 24 y 30\nhttps://comcenoreste.org.mx/events/d
 ata-stage-anexo-24-y-30/
URL:https://comcenoreste.org.mx/events/data-stage-anexo-24-y-30/
END:VEVENT
END:VCALENDAR