BEGIN:VCALENDAR
VERSION:2.0
PRODID:-//eventon.com NONSGML v1.0//EN
CALSCALE:GREGORIAN
METHOD:PUBLISH
BEGIN:VEVENT
UID:69e87e6be094b
DTSTAMP:20260422T075315Z
DTSTART:20261014T080000Z
DTEND:20261014T103000Z
LOCATION:
SUMMARY:COMITÉ DE SOCIOS - OCTUBRE
DESCRIPTION:COMITÉ DE SOCIOS - OCTUBRE\nhttps://comcenoreste.org.mx/events
 /comite-de-socios-octubre/
URL:https://comcenoreste.org.mx/events/comite-de-socios-octubre/
END:VEVENT
END:VCALENDAR