BEGIN:VCALENDAR
VERSION:2.0
PRODID:-//eventon.com NONSGML v1.0//EN
CALSCALE:GREGORIAN
METHOD:PUBLISH
BEGIN:VEVENT
UID:69e87f4a3f8fe
DTSTAMP:20260422T075658Z
DTSTART:20261001T090000Z
DTEND:20261002T170000Z
LOCATION:
SUMMARY:Cumbre de Seguridad y Eficienciaen la cadena de suministro
DESCRIPTION:Cumbre de Seguridad y Eficienciaen la cadena de suministro\nhtt
 ps://comcenoreste.org.mx/events/cumbre-de-seguridad-y-eficienciaen-la-caden
 a-de-suministro/
URL:https://comcenoreste.org.mx/events/cumbre-de-seguridad-y-eficienciaen-la-cadena-de-suministro/
END:VEVENT
END:VCALENDAR