BEGIN:VCALENDAR
VERSION:2.0
PRODID:-//eventon.com NONSGML v1.0//EN
CALSCALE:GREGORIAN
METHOD:PUBLISH
BEGIN:VEVENT
UID:69e87e6b82457
DTSTAMP:20260422T075315Z
DTSTART:20260924T100000Z
DTEND:20260924T130000Z
LOCATION:
SUMMARY:Cumplimiento fiscal y Aduanero de las certificaciones OEA y IVA
DESCRIPTION:Cumplimiento fiscal y Aduanero de las certificaciones OEA y IVA
 \nhttps://comcenoreste.org.mx/events/cumplimiento-fiscal-y-aduanero-de-lasc
 ertificaciones-oea-y-iva/
URL:https://comcenoreste.org.mx/events/cumplimiento-fiscal-y-aduanero-de-lascertificaciones-oea-y-iva/
END:VEVENT
END:VCALENDAR