BEGIN:VCALENDAR
VERSION:2.0
PRODID:-//eventon.com NONSGML v1.0//EN
CALSCALE:GREGORIAN
METHOD:PUBLISH
BEGIN:VEVENT
UID:69e88097d2295
DTSTAMP:20260422T080231Z
DTSTART:20260812T080000Z
DTEND:20260812T103000Z
LOCATION:
SUMMARY:COMITÉ DE SOCIOS - AGOSTO
DESCRIPTION:COMITÉ DE SOCIOS - AGOSTO\nhttps://comcenoreste.org.mx/events/
 comite-de-socios-agosto/
URL:https://comcenoreste.org.mx/events/comite-de-socios-agosto/
END:VEVENT
END:VCALENDAR