BEGIN:VCALENDAR
VERSION:2.0
PRODID:-//eventon.com NONSGML v1.0//EN
CALSCALE:GREGORIAN
METHOD:PUBLISH
BEGIN:VEVENT
UID:69eb47a8657d9
DTSTAMP:20260424T103624Z
DTSTART:20260423T110000Z
DTEND:20260423T130000Z
LOCATION:
SUMMARY:Auditoria Aduanera y recursos aduaneros
DESCRIPTION:Auditoria Aduanera y recursos aduaneros\nhttps://comcenoreste.o
 rg.mx/events/auditoria-aduanera-y-recursos-aduaneros/
URL:https://comcenoreste.org.mx/events/auditoria-aduanera-y-recursos-aduaneros/
END:VEVENT
END:VCALENDAR