BEGIN:VCALENDAR
VERSION:2.0
PRODID:-//eventon.com NONSGML v1.0//EN
CALSCALE:GREGORIAN
METHOD:PUBLISH
BEGIN:VEVENT
UID:69e9f80d35db0
DTSTAMP:20260423T104429Z
DTSTART:20251016T160000Z
DTEND:20251016T190000Z
LOCATION:
SUMMARY:Contribuciones aplicables al comercio exterior
DESCRIPTION:Contribuciones aplicables al comercio exterior\nhttps://comceno
 reste.org.mx/events/contribuciones-aplicables-al-comercio-exterior/
URL:https://comcenoreste.org.mx/events/contribuciones-aplicables-al-comercio-exterior/
END:VEVENT
END:VCALENDAR